BEGIN:VCALENDAR
VERSION:2.0
PRODID:-//Friends of Midsummer Common - ECPv6.15.20//NONSGML v1.0//EN
CALSCALE:GREGORIAN
METHOD:PUBLISH
X-ORIGINAL-URL:https://midsummercommon.org.uk
X-WR-CALDESC:Events for Friends of Midsummer Common
REFRESH-INTERVAL;VALUE=DURATION:PT1H
X-Robots-Tag:noindex
X-PUBLISHED-TTL:PT1H
BEGIN:VTIMEZONE
TZID:America/Halifax
BEGIN:DAYLIGHT
TZOFFSETFROM:-0400
TZOFFSETTO:-0300
TZNAME:ADT
DTSTART:20200308T060000
END:DAYLIGHT
BEGIN:STANDARD
TZOFFSETFROM:-0300
TZOFFSETTO:-0400
TZNAME:AST
DTSTART:20201101T050000
END:STANDARD
BEGIN:DAYLIGHT
TZOFFSETFROM:-0400
TZOFFSETTO:-0300
TZNAME:ADT
DTSTART:20210314T060000
END:DAYLIGHT
BEGIN:STANDARD
TZOFFSETFROM:-0300
TZOFFSETTO:-0400
TZNAME:AST
DTSTART:20211107T050000
END:STANDARD
BEGIN:DAYLIGHT
TZOFFSETFROM:-0400
TZOFFSETTO:-0300
TZNAME:ADT
DTSTART:20220313T060000
END:DAYLIGHT
BEGIN:STANDARD
TZOFFSETFROM:-0300
TZOFFSETTO:-0400
TZNAME:AST
DTSTART:20221106T050000
END:STANDARD
BEGIN:DAYLIGHT
TZOFFSETFROM:-0400
TZOFFSETTO:-0300
TZNAME:ADT
DTSTART:20230312T060000
END:DAYLIGHT
BEGIN:STANDARD
TZOFFSETFROM:-0300
TZOFFSETTO:-0400
TZNAME:AST
DTSTART:20231105T050000
END:STANDARD
END:VTIMEZONE
BEGIN:VTIMEZONE
TZID:Europe/London
BEGIN:DAYLIGHT
TZOFFSETFROM:+0000
TZOFFSETTO:+0100
TZNAME:BST
DTSTART:20210328T010000
END:DAYLIGHT
BEGIN:STANDARD
TZOFFSETFROM:+0100
TZOFFSETTO:+0000
TZNAME:GMT
DTSTART:20211031T010000
END:STANDARD
BEGIN:DAYLIGHT
TZOFFSETFROM:+0000
TZOFFSETTO:+0100
TZNAME:BST
DTSTART:20220327T010000
END:DAYLIGHT
BEGIN:STANDARD
TZOFFSETFROM:+0100
TZOFFSETTO:+0000
TZNAME:GMT
DTSTART:20221030T010000
END:STANDARD
BEGIN:DAYLIGHT
TZOFFSETFROM:+0000
TZOFFSETTO:+0100
TZNAME:BST
DTSTART:20230326T010000
END:DAYLIGHT
BEGIN:STANDARD
TZOFFSETFROM:+0100
TZOFFSETTO:+0000
TZNAME:GMT
DTSTART:20231029T010000
END:STANDARD
END:VTIMEZONE
BEGIN:VEVENT
DTSTART;VALUE=DATE:20220611
DTEND;VALUE=DATE:20220612
DTSTAMP:20260420T113127
CREATED:20220125T115308Z
LAST-MODIFIED:20220125T115337Z
UID:3249-1654905600-1654991999@midsummercommon.org.uk
SUMMARY:Strawberry Fair 2022
DESCRIPTION:
URL:https://midsummercommon.org.uk/event/strawberry-fair-2022/
END:VEVENT
BEGIN:VEVENT
DTSTART;TZID=America/Halifax:20220605T100000
DTEND;TZID=America/Halifax:20220605T120000
DTSTAMP:20260420T113127
CREATED:20220423T170236Z
LAST-MODIFIED:20220423T170236Z
UID:4088-1654423200-1654430400@midsummercommon.org.uk
SUMMARY:Orchard Work Session
DESCRIPTION:No previous experience is necessary. Come as you are. If any questions  contact the orchard manager: Orchard_Manager@protonmail.com
URL:https://midsummercommon.org.uk/event/orchard-work-session-20/
ATTACH;FMTTYPE=image/jpeg:https://midsummercommon.org.uk/wp-content/uploads/2022/04/Orchard.jpg
END:VEVENT
BEGIN:VEVENT
DTSTART;TZID=America/Halifax:20220529T100000
DTEND;TZID=America/Halifax:20220529T120000
DTSTAMP:20260420T113127
CREATED:20220423T170045Z
LAST-MODIFIED:20220423T170102Z
UID:4086-1653818400-1653825600@midsummercommon.org.uk
SUMMARY:Orchard Work Session
DESCRIPTION:No previous experience is necessary. Come as you are. If any questions  contact the orchard manager: Orchard_Manager@protonmail.com
URL:https://midsummercommon.org.uk/event/orchard-work-session-19/
ATTACH;FMTTYPE=image/jpeg:https://midsummercommon.org.uk/wp-content/uploads/2022/04/Orchard.jpg
END:VEVENT
BEGIN:VEVENT
DTSTART;TZID=America/Halifax:20220522T100000
DTEND;TZID=America/Halifax:20220522T120000
DTSTAMP:20260420T113127
CREATED:20220423T165937Z
LAST-MODIFIED:20220423T165937Z
UID:4084-1653213600-1653220800@midsummercommon.org.uk
SUMMARY:Orchard Work Session
DESCRIPTION:No previous experience is necessary. Come as you are. If any questions  contact the orchard manager: Orchard_Manager@protonmail.com
URL:https://midsummercommon.org.uk/event/orchard-work-session-18/
ATTACH;FMTTYPE=image/jpeg:https://midsummercommon.org.uk/wp-content/uploads/2022/04/Orchard.jpg
END:VEVENT
BEGIN:VEVENT
DTSTART;TZID=America/Halifax:20220515T100000
DTEND;TZID=America/Halifax:20220515T120000
DTSTAMP:20260420T113127
CREATED:20220423T165458Z
LAST-MODIFIED:20220423T165750Z
UID:4080-1652608800-1652616000@midsummercommon.org.uk
SUMMARY:Orchard Work Session
DESCRIPTION:No previous experience is necessary. Come as you are. If any questions  contact the orchard manager: Orchard_Manager@protonmail.com
URL:https://midsummercommon.org.uk/event/orchard-work-session-16/
ATTACH;FMTTYPE=image/jpeg:https://midsummercommon.org.uk/wp-content/uploads/2022/04/Orchard.jpg
END:VEVENT
BEGIN:VEVENT
DTSTART;TZID=America/Halifax:20220508T100000
DTEND;TZID=America/Halifax:20220508T120000
DTSTAMP:20260420T113127
CREATED:20220423T165600Z
LAST-MODIFIED:20220423T175339Z
UID:4082-1652004000-1652011200@midsummercommon.org.uk
SUMMARY:Orchard Work Session
DESCRIPTION:No previous experience is necessary. Come as you are. If any questions  contact the orchard manager: Orchard_Manager@protonmail.com
URL:https://midsummercommon.org.uk/event/orchard-work-session-17/
ATTACH;FMTTYPE=image/jpeg:https://midsummercommon.org.uk/wp-content/uploads/2022/04/Orchard.jpg
END:VEVENT
BEGIN:VEVENT
DTSTART;TZID=America/Halifax:20220501T100000
DTEND;TZID=America/Halifax:20220501T120000
DTSTAMP:20260420T113127
CREATED:20220423T165224Z
LAST-MODIFIED:20220423T165224Z
UID:4078-1651399200-1651406400@midsummercommon.org.uk
SUMMARY:Orchard Work Session
DESCRIPTION:No previous experience is necessary. Come as you are. If any questions  contact the orchard manager: Orchard_Manager@protonmail.com
URL:https://midsummercommon.org.uk/event/orchard-work-session-15/
ATTACH;FMTTYPE=image/jpeg:https://midsummercommon.org.uk/wp-content/uploads/2022/04/Orchard.jpg
END:VEVENT
BEGIN:VEVENT
DTSTART;TZID=America/Halifax:20220424T100000
DTEND;TZID=America/Halifax:20220424T120000
DTSTAMP:20260420T113127
CREATED:20220423T164900Z
LAST-MODIFIED:20220423T165310Z
UID:4074-1650794400-1650801600@midsummercommon.org.uk
SUMMARY:Orchard Work Session
DESCRIPTION:No previous experience is necessary. Come as you are. If any questions  contact the orchard manager: Orchard_Manager@protonmail.com
URL:https://midsummercommon.org.uk/event/orchard-work-session-14/
ATTACH;FMTTYPE=image/jpeg:https://midsummercommon.org.uk/wp-content/uploads/2022/04/Orchard.jpg
END:VEVENT
BEGIN:VEVENT
DTSTART;VALUE=DATE:20220417
DTEND;VALUE=DATE:20220418
DTSTAMP:20260420T113127
CREATED:20220423T165002Z
LAST-MODIFIED:20220423T165047Z
UID:4076-1650153600-1650239999@midsummercommon.org.uk
SUMMARY:Easter Break
DESCRIPTION:
URL:https://midsummercommon.org.uk/event/easter-break/
END:VEVENT
BEGIN:VEVENT
DTSTART;VALUE=DATE:20220413
DTEND;VALUE=DATE:20220419
DTSTAMP:20260420T113127
CREATED:20220124T134314Z
LAST-MODIFIED:20220124T134314Z
UID:3223-1649808000-1650326399@midsummercommon.org.uk
SUMMARY:Circus Wonderland
DESCRIPTION:
URL:https://midsummercommon.org.uk/event/circus-wonderland/
END:VEVENT
BEGIN:VEVENT
DTSTART;TZID=America/Halifax:20220410T100000
DTEND;TZID=America/Halifax:20220410T120000
DTSTAMP:20260420T113127
CREATED:20220423T164335Z
LAST-MODIFIED:20220423T164335Z
UID:4072-1649584800-1649592000@midsummercommon.org.uk
SUMMARY:Orchard Work Session
DESCRIPTION:No previous experience is necessary. Come as you are. If any questions  contact the orchard manager: Orchard_Manager@protonmail.com \n 
URL:https://midsummercommon.org.uk/event/orchard-work-session-13/
ATTACH;FMTTYPE=image/jpeg:https://midsummercommon.org.uk/wp-content/uploads/2022/04/Orchard.jpg
END:VEVENT
BEGIN:VEVENT
DTSTART;TZID=America/Halifax:20220403T100000
DTEND;TZID=America/Halifax:20220403T120000
DTSTAMP:20260420T113127
CREATED:20220423T163919Z
LAST-MODIFIED:20220423T163919Z
UID:4069-1648980000-1648987200@midsummercommon.org.uk
SUMMARY:Orchard Work Session
DESCRIPTION:No previous experience is necessary. Come as you are. If any questions  contact the orchard manager: Orchard_Manager@protonmail.com
URL:https://midsummercommon.org.uk/event/orchard-work-session-12/
ATTACH;FMTTYPE=image/jpeg:https://midsummercommon.org.uk/wp-content/uploads/2022/04/Orchard.jpg
END:VEVENT
BEGIN:VEVENT
DTSTART;TZID=America/Halifax:20220327T100000
DTEND;TZID=America/Halifax:20220327T120000
DTSTAMP:20260420T113127
CREATED:20211230T160403Z
LAST-MODIFIED:20211230T160859Z
UID:3081-1648375200-1648382400@midsummercommon.org.uk
SUMMARY:Orchard Work Session
DESCRIPTION:No previous experience is necessary. Come as you are. If any questions  contact the orchard manager: Orchard_Manager@protonmail.com
URL:https://midsummercommon.org.uk/event/orchard-work-session-11/
ATTACH;FMTTYPE=image/jpeg:https://midsummercommon.org.uk/wp-content/uploads/2021/09/orchard-worker-in-tree-1.jpeg
END:VEVENT
BEGIN:VEVENT
DTSTART;TZID=America/Halifax:20220320T100000
DTEND;TZID=America/Halifax:20220320T120000
DTSTAMP:20260420T113127
CREATED:20211230T160256Z
LAST-MODIFIED:20211230T160739Z
UID:3079-1647770400-1647777600@midsummercommon.org.uk
SUMMARY:Orchard Work Session
DESCRIPTION:No previous experience is necessary. Come as you are. If any questions  contact the orchard manager: Orchard_Manager@protonmail.com
URL:https://midsummercommon.org.uk/event/orchard-work-session-10/
ATTACH;FMTTYPE=image/jpeg:https://midsummercommon.org.uk/wp-content/uploads/2021/09/orchard-worker-in-tree-1.jpeg
END:VEVENT
BEGIN:VEVENT
DTSTART;TZID=America/Halifax:20220313T100000
DTEND;TZID=America/Halifax:20220313T120000
DTSTAMP:20260420T113127
CREATED:20211230T155506Z
LAST-MODIFIED:20211230T155651Z
UID:3075-1647165600-1647172800@midsummercommon.org.uk
SUMMARY:Orchard Work Session
DESCRIPTION:No previous experience is necessary. Come as you are. If any questions  contact the orchard manager: Orchard_Manager@protonmail.com
URL:https://midsummercommon.org.uk/event/orchard-work-session-9/
ATTACH;FMTTYPE=image/jpeg:https://midsummercommon.org.uk/wp-content/uploads/2021/09/orchard-worker-in-tree-1.jpeg
END:VEVENT
BEGIN:VEVENT
DTSTART;TZID=Europe/London:20220306T100000
DTEND;TZID=Europe/London:20220306T120000
DTSTAMP:20260420T113127
CREATED:20210804T211454Z
LAST-MODIFIED:20211230T160052Z
UID:653-1646560800-1646568000@midsummercommon.org.uk
SUMMARY:Orchard Work Session
DESCRIPTION:No previous experience is necessary. Come as you are. \nIf any questions  contact the orchard manager: \nOrchard_Manager@protonmail.com
URL:https://midsummercommon.org.uk/event/orchard-work-session/
ATTACH;FMTTYPE=image/jpeg:https://midsummercommon.org.uk/wp-content/uploads/2021/09/orchard-worker-in-tree-e1630871427598.jpeg
END:VEVENT
BEGIN:VEVENT
DTSTART;VALUE=DATE:20220306
DTEND;VALUE=DATE:20220307
DTSTAMP:20260420T113127
CREATED:20220125T115208Z
LAST-MODIFIED:20220125T115208Z
UID:3247-1646524800-1646611199@midsummercommon.org.uk
SUMMARY:Cambridge Half Marathon 2022
DESCRIPTION:
URL:https://midsummercommon.org.uk/event/cambridge-half-marathon-2022/
END:VEVENT
BEGIN:VEVENT
DTSTART;TZID=Europe/London:20220227T100000
DTEND;TZID=Europe/London:20220227T120000
DTSTAMP:20260420T113127
CREATED:20210804T213045Z
LAST-MODIFIED:20211230T160558Z
UID:655-1645956000-1645963200@midsummercommon.org.uk
SUMMARY:Orchard Work Session
DESCRIPTION:No previous experience is necessary. \nCome as you are. \nIf any questions  contact the orchard manager: Orchard_Manager@protonmail.com
URL:https://midsummercommon.org.uk/event/orchard-work-session-2/
ATTACH;FMTTYPE=image/png:https://midsummercommon.org.uk/wp-content/uploads/2021/08/Proud-of-raised-bed.png
END:VEVENT
BEGIN:VEVENT
DTSTART;TZID=America/Halifax:20220220T100000
DTEND;TZID=America/Halifax:20220220T120000
DTSTAMP:20260420T113127
CREATED:20211015T134609Z
LAST-MODIFIED:20211230T154714Z
UID:2884-1645351200-1645358400@midsummercommon.org.uk
SUMMARY:Orchard Work Session
DESCRIPTION:No previous experience is necessary. Come as you are. If any questions  contact the orchard manager: Orchard_Manager@protonmail.com
URL:https://midsummercommon.org.uk/event/orchard-work-session-5/
ATTACH;FMTTYPE=image/jpeg:https://midsummercommon.org.uk/wp-content/uploads/2021/09/orchard-worker-in-tree-e1630871427598.jpeg
END:VEVENT
BEGIN:VEVENT
DTSTART;TZID=America/Halifax:20220213T100000
DTEND;TZID=America/Halifax:20220213T120000
DTSTAMP:20260420T113127
CREATED:20211016T125939Z
LAST-MODIFIED:20211230T155925Z
UID:2931-1644746400-1644753600@midsummercommon.org.uk
SUMMARY:Orchard volunteer work session
DESCRIPTION:No previous experience is necessary. Come as you are. If any questions  contact the orchard manager: Orchard_Manager@protonmail.com
URL:https://midsummercommon.org.uk/event/orchard-volunteer-work-session/
ATTACH;FMTTYPE=image/jpeg:https://midsummercommon.org.uk/wp-content/uploads/2021/09/orchard-worker-in-tree-1.jpeg
ORGANIZER;CN="Friends of Midsummer Common":MAILTO:Orchard_Manager@protonmail.com
END:VEVENT
BEGIN:VEVENT
DTSTART;TZID=America/Halifax:20220206T100000
DTEND;TZID=America/Halifax:20220206T120000
DTSTAMP:20260420T113127
CREATED:20211015T135436Z
LAST-MODIFIED:20211230T154603Z
UID:2887-1644141600-1644148800@midsummercommon.org.uk
SUMMARY:Orchard Work Session
DESCRIPTION:No previous experience is necessary. Come as you are. If any questions  contact the orchard manager: Orchard_Manager@protonmail.com
URL:https://midsummercommon.org.uk/event/orchard-work-session-6/
ATTACH;FMTTYPE=image/jpeg:https://midsummercommon.org.uk/wp-content/uploads/2021/09/orchard-worker-in-tree-e1630871427598.jpeg
END:VEVENT
BEGIN:VEVENT
DTSTART;TZID=America/Halifax:20220130T100000
DTEND;TZID=America/Halifax:20220130T120000
DTSTAMP:20260420T113127
CREATED:20211015T140519Z
LAST-MODIFIED:20211230T153013Z
UID:2891-1643536800-1643544000@midsummercommon.org.uk
SUMMARY:Orchard Work Session
DESCRIPTION:No previous experience is necessary. Come as you are. If any questions  contact the orchard manager: Orchard_Manager@protonmail.com
URL:https://midsummercommon.org.uk/event/orchard-work-session-8/
ATTACH;FMTTYPE=image/jpeg:https://midsummercommon.org.uk/wp-content/uploads/2021/09/orchard-worker-in-tree-e1630871427598.jpeg
END:VEVENT
BEGIN:VEVENT
DTSTART;TZID=America/Halifax:20220123T110000
DTEND;TZID=America/Halifax:20220123T120000
DTSTAMP:20260420T113127
CREATED:20220114T091026Z
LAST-MODIFIED:20220115T213341Z
UID:3111-1642935600-1642939200@midsummercommon.org.uk
SUMMARY:Wassail!
DESCRIPTION:There will be musicians! Singing! Possibly pie. \nGreen facepaint\, fancy dress in the form of foliage and fruit-based headgear welcome. Bring a pot or pan to bang – we need to make lots of noise to drive off the evil spirits of cankers\, wilts and slverleaf (not that we have any of those at the moment) \nAlso an opportunity to get to know our orchard\, our beautiful heritage fruit trees\, and our friendly volunteer team. \nThe orchard-visiting wassail refers to the ancient custom of visiting orchard reciting incantations and singing to the trees in order to encourage them to thrive next year. \nOpen to everyone. Meet at the Newmarket Road entrance to the orchard\, to the left of the Cambridge Building Society Headquarters at 11am 23rd Jan. \nSee you then!
URL:https://midsummercommon.org.uk/event/wassail/
LOCATION:Midsummer Common Community Orchard\, You can access the orchard on the south side from Maids Causeway / Newmarket Rd or from the North on the footpath close to the Cutter Ferry footbridge.\, CB5 8FF
ORGANIZER;CN="Friends of Midsummer Common":MAILTO:Orchard_Manager@protonmail.com
END:VEVENT
BEGIN:VEVENT
DTSTART;TZID=America/Halifax:20220116T100000
DTEND;TZID=America/Halifax:20220116T120000
DTSTAMP:20260420T113127
CREATED:20211015T140205Z
LAST-MODIFIED:20211230T154045Z
UID:2889-1642327200-1642334400@midsummercommon.org.uk
SUMMARY:Orchard Work Session
DESCRIPTION:No previous experience is necessary. Come as you are. If any questions  contact the orchard manager: Orchard_Manager@protonmail.com
URL:https://midsummercommon.org.uk/event/orchard-work-session-7/
ATTACH;FMTTYPE=image/jpeg:https://midsummercommon.org.uk/wp-content/uploads/2021/09/orchard-worker-in-tree-e1630871427598.jpeg
END:VEVENT
BEGIN:VEVENT
DTSTART;TZID=Europe/London:20220109T100000
DTEND;TZID=Europe/London:20220109T120000
DTSTAMP:20260420T113127
CREATED:20210804T213347Z
LAST-MODIFIED:20211230T152646Z
UID:659-1641722400-1641729600@midsummercommon.org.uk
SUMMARY:Orchard Work Session
DESCRIPTION:No previous experience is necessary. \nCome as you are. \nIf any questions  contact the orchard manager: Orchard_Manager@protonmail.com
URL:https://midsummercommon.org.uk/event/orchard-work-session-4/
ATTACH;FMTTYPE=image/jpeg:https://midsummercommon.org.uk/wp-content/uploads/2021/09/orchard-worker-in-tree-e1630871427598.jpeg
END:VEVENT
BEGIN:VEVENT
DTSTART;TZID=Europe/London:20220102T100000
DTEND;TZID=Europe/London:20220102T120000
DTSTAMP:20260420T113127
CREATED:20210804T213238Z
LAST-MODIFIED:20211230T154206Z
UID:657-1641117600-1641124800@midsummercommon.org.uk
SUMMARY:Orchard Work Session
DESCRIPTION:No previous experience is necessary. \nCome as you are. \nIf any questions  contact the orchard manager: Orchard_Manager@protonmail.com
URL:https://midsummercommon.org.uk/event/orchard-work-session-3/
ATTACH;FMTTYPE=image/jpeg:https://midsummercommon.org.uk/wp-content/uploads/2021/09/orchard-worker-in-tree-e1630871427598.jpeg
END:VEVENT
BEGIN:VEVENT
DTSTART;TZID=America/Halifax:20210928T190000
DTEND;TZID=America/Halifax:20210928T203000
DTSTAMP:20260420T113127
CREATED:20210926T145343Z
LAST-MODIFIED:20210926T145803Z
UID:2046-1632855600-1632861000@midsummercommon.org.uk
SUMMARY:FoMC Annual General Meeting: Sept 28th\, 7:00 PM
DESCRIPTION:Steven Cheek is inviting you to a scheduled Zoom meeting. \nTopic: September 28\, 7:00 PM FoMC Annual Meeting (Zoom)\nTime: Sep 28\, 2021 07:00 PM London \nJoin Zoom Meeting\nhttps://us02web.zoom.us/j/89850107108?pwd=M01pVXgvS1ZhYXRVK2haZHpXSnBHZz09 \nMeeting ID: 898 5010 7108\nPasscode: 070948 \n 
URL:https://midsummercommon.org.uk/event/fomc-annual-general-meeting-sept-28th-700-pm/
END:VEVENT
BEGIN:VEVENT
DTSTART;TZID=America/Halifax:20210926T103000
DTEND;TZID=America/Halifax:20210926T123000
DTSTAMP:20260420T113127
CREATED:20210908T115317Z
LAST-MODIFIED:20210908T122748Z
UID:1038-1632652200-1632659400@midsummercommon.org.uk
SUMMARY:Walk for Rowan
DESCRIPTION:Please see the Rowan website for details: \nJoin our Walk for Rowan \n \n 
URL:https://midsummercommon.org.uk/event/walk-for-rowan/
LOCATION:Jesus Green Lido
ATTACH;FMTTYPE=image/jpeg:https://midsummercommon.org.uk/wp-content/uploads/2021/09/Screenshot-2021-09-08-at-12.55.16-1.jpg
END:VEVENT
END:VCALENDAR