BEGIN:VCALENDAR
VERSION:2.0
PRODID:-//Friends of Midsummer Common - ECPv6.15.20//NONSGML v1.0//EN
CALSCALE:GREGORIAN
METHOD:PUBLISH
X-ORIGINAL-URL:https://midsummercommon.org.uk
X-WR-CALDESC:Events for Friends of Midsummer Common
REFRESH-INTERVAL;VALUE=DURATION:PT1H
X-Robots-Tag:noindex
X-PUBLISHED-TTL:PT1H
BEGIN:VTIMEZONE
TZID:America/Halifax
BEGIN:DAYLIGHT
TZOFFSETFROM:-0400
TZOFFSETTO:-0300
TZNAME:ADT
DTSTART:20210314T060000
END:DAYLIGHT
BEGIN:STANDARD
TZOFFSETFROM:-0300
TZOFFSETTO:-0400
TZNAME:AST
DTSTART:20211107T050000
END:STANDARD
BEGIN:DAYLIGHT
TZOFFSETFROM:-0400
TZOFFSETTO:-0300
TZNAME:ADT
DTSTART:20220313T060000
END:DAYLIGHT
BEGIN:STANDARD
TZOFFSETFROM:-0300
TZOFFSETTO:-0400
TZNAME:AST
DTSTART:20221106T050000
END:STANDARD
BEGIN:DAYLIGHT
TZOFFSETFROM:-0400
TZOFFSETTO:-0300
TZNAME:ADT
DTSTART:20230312T060000
END:DAYLIGHT
BEGIN:STANDARD
TZOFFSETFROM:-0300
TZOFFSETTO:-0400
TZNAME:AST
DTSTART:20231105T050000
END:STANDARD
END:VTIMEZONE
BEGIN:VTIMEZONE
TZID:Europe/London
BEGIN:DAYLIGHT
TZOFFSETFROM:+0000
TZOFFSETTO:+0100
TZNAME:BST
DTSTART:20210328T010000
END:DAYLIGHT
BEGIN:STANDARD
TZOFFSETFROM:+0100
TZOFFSETTO:+0000
TZNAME:GMT
DTSTART:20211031T010000
END:STANDARD
BEGIN:DAYLIGHT
TZOFFSETFROM:+0000
TZOFFSETTO:+0100
TZNAME:BST
DTSTART:20220327T010000
END:DAYLIGHT
BEGIN:STANDARD
TZOFFSETFROM:+0100
TZOFFSETTO:+0000
TZNAME:GMT
DTSTART:20221030T010000
END:STANDARD
BEGIN:DAYLIGHT
TZOFFSETFROM:+0000
TZOFFSETTO:+0100
TZNAME:BST
DTSTART:20230326T010000
END:DAYLIGHT
BEGIN:STANDARD
TZOFFSETFROM:+0100
TZOFFSETTO:+0000
TZNAME:GMT
DTSTART:20231029T010000
END:STANDARD
END:VTIMEZONE
BEGIN:VEVENT
DTSTART;VALUE=DATE:20221016
DTEND;VALUE=DATE:20221017
DTSTAMP:20260420T083002
CREATED:20220125T115613Z
LAST-MODIFIED:20220125T115613Z
UID:3255-1665878400-1665964799@midsummercommon.org.uk
SUMMARY:Town & Gown 2022
DESCRIPTION:
URL:https://midsummercommon.org.uk/event/town-gown-2022/
END:VEVENT
BEGIN:VEVENT
DTSTART;TZID=Europe/London:20221011T183000
DTEND;TZID=Europe/London:20221011T203000
DTSTAMP:20260420T083002
CREATED:20220913T102531Z
LAST-MODIFIED:20220913T104010Z
UID:4408-1665513000-1665520200@midsummercommon.org.uk
SUMMARY:Friends of Midsummer Common Annual General Meeting
DESCRIPTION:Dear Friends of Midsummer Common Member: \nPlease join us for the Annual General Meeting. During the meeting we will hear from an expert on the biodiversity of orchards\, review the progress of the FoMC in 2021/2022 and outline some plans for the future. \nTIME: 6.30 p.m. on Tuesday 11 October 2022. \nPLACE: Christ Church\, Newmarket Road\, Cambridge (or for Zoom see below) \nAGENDA: \n   –      Introduction from our Chair: (Update on the use of electric vehicles on the Common\, the effect of the drought\, and working with the Council on events) \n–      Presentation: Biodiversity of Orchards \n–       Orchard Update \n–       Financial Update \n–       New Members and volunteer opportunities \n–       Election of Officers and Committee members. \nZOOM OPTION: \nTopic: Friends of Midsummer Common AGM \nTime: Oct 11\, 2022 06:30 PM London \nJoin Zoom Meeting \nhttps://us02web.zoom.us/j/85491936047 \nMeeting ID: 854 9193 6047 \nPasscode: AGM@CCC
URL:https://midsummercommon.org.uk/event/annual-general-meeting-revieing-the-year-planning-for-the-future/
ATTACH;FMTTYPE=image/jpeg:https://midsummercommon.org.uk/wp-content/uploads/2021/09/stormy-midsummer-1-e1630595956386.jpeg
END:VEVENT
BEGIN:VEVENT
DTSTART;TZID=America/Halifax:20221009T100000
DTEND;TZID=America/Halifax:20221009T120000
DTSTAMP:20260420T083002
CREATED:20220908T120201Z
LAST-MODIFIED:20221005T122219Z
UID:4392-1665309600-1665316800@midsummercommon.org.uk
SUMMARY:10:00 Orchard Work Session + 12:00 Apple Pressing and Juice Tasting
DESCRIPTION:Regarding the 10:00 AM work Session: No previous experience is necessary. Come as you are. If any questions  contact the orchard manager:  Orchard_Manager@protonmail.com \nRegarding the 12:00 Apple Pressing – After your hard work in the morning\, stay behind and watch apple pressing and taste the fruits of your labour. Whether you volunteered in the morning or not\, please come by for a taste at 12:00. \n 
URL:https://midsummercommon.org.uk/event/orchard-work-session-36/
ATTACH;FMTTYPE=image/jpeg:https://midsummercommon.org.uk/wp-content/uploads/2022/04/Orchard.jpg
END:VEVENT
BEGIN:VEVENT
DTSTART;VALUE=DATE:20221005
DTEND;VALUE=DATE:20221010
DTSTAMP:20260420T083002
CREATED:20220125T115528Z
LAST-MODIFIED:20220125T115528Z
UID:3253-1664928000-1665359999@midsummercommon.org.uk
SUMMARY:International Circus 2022
DESCRIPTION:
URL:https://midsummercommon.org.uk/event/international-circus-2022/
END:VEVENT
BEGIN:VEVENT
DTSTART;TZID=America/Halifax:20221002T100000
DTEND;TZID=America/Halifax:20221002T120000
DTSTAMP:20260420T083002
CREATED:20220908T115536Z
LAST-MODIFIED:20220908T115621Z
UID:4390-1664704800-1664712000@midsummercommon.org.uk
SUMMARY:Orchard Work Session
DESCRIPTION:No previous experience is necessary. Come as you are. If any questions  contact the orchard manager: Orchard_Manager@protonmail.com
URL:https://midsummercommon.org.uk/event/orchard-work-session-27/
ATTACH;FMTTYPE=image/jpeg:https://midsummercommon.org.uk/wp-content/uploads/2021/09/orchard-sign-1-e1631200478726.jpeg
END:VEVENT
BEGIN:VEVENT
DTSTART;TZID=Europe/London:20220925T100000
DTEND;TZID=Europe/London:20220925T120000
DTSTAMP:20260420T083002
CREATED:20220423T173938Z
LAST-MODIFIED:20220625T165508Z
UID:4129-1664100000-1664107200@midsummercommon.org.uk
SUMMARY:Orchard Work Session
DESCRIPTION:No previous experience is necessary. Come as you are. If any questions  contact the orchard manager: Orchard_Manager@protonmail.com
URL:https://midsummercommon.org.uk/event/orchard-work-session-34/
ATTACH;FMTTYPE=image/jpeg:https://midsummercommon.org.uk/wp-content/uploads/2022/04/Orchard.jpg
END:VEVENT
BEGIN:VEVENT
DTSTART;TZID=Europe/London:20220918T100000
DTEND;TZID=Europe/London:20220918T120000
DTSTAMP:20260420T083002
CREATED:20220423T174051Z
LAST-MODIFIED:20220625T165350Z
UID:4131-1663495200-1663502400@midsummercommon.org.uk
SUMMARY:Orchard Work Session
DESCRIPTION:No previous experience is necessary. Come as you are. If any questions  contact the orchard manager: Orchard_Manager@protonmail.com
URL:https://midsummercommon.org.uk/event/orchard-work-session-35/
ATTACH;FMTTYPE=image/jpeg:https://midsummercommon.org.uk/wp-content/uploads/2022/04/Orchard.jpg
END:VEVENT
BEGIN:VEVENT
DTSTART;TZID=Europe/London:20220911T100000
DTEND;TZID=Europe/London:20220911T120000
DTSTAMP:20260420T083002
CREATED:20220423T173718Z
LAST-MODIFIED:20220625T165316Z
UID:4125-1662890400-1662897600@midsummercommon.org.uk
SUMMARY:Orchard Work Session
DESCRIPTION:No previous experience is necessary. Come as you are. If any questions  contact the orchard manager: Orchard_Manager@protonmail.com
URL:https://midsummercommon.org.uk/event/orchard-work-session-32/
ATTACH;FMTTYPE=image/jpeg:https://midsummercommon.org.uk/wp-content/uploads/2022/04/Orchard.jpg
END:VEVENT
BEGIN:VEVENT
DTSTART;TZID=Europe/London:20220904T100000
DTEND;TZID=Europe/London:20220904T120000
DTSTAMP:20260420T083002
CREATED:20220423T173835Z
LAST-MODIFIED:20220625T165238Z
UID:4127-1662285600-1662292800@midsummercommon.org.uk
SUMMARY:Orchard Work Session
DESCRIPTION:No previous experience is necessary. Come as you are. If any questions  contact the orchard manager: Orchard_Manager@protonmail.com
URL:https://midsummercommon.org.uk/event/orchard-work-session-33/
ATTACH;FMTTYPE=image/jpeg:https://midsummercommon.org.uk/wp-content/uploads/2022/04/Orchard.jpg
END:VEVENT
BEGIN:VEVENT
DTSTART;TZID=Europe/London:20220828T100000
DTEND;TZID=Europe/London:20220828T120000
DTSTAMP:20260420T083002
CREATED:20220423T173559Z
LAST-MODIFIED:20220625T165159Z
UID:4123-1661680800-1661688000@midsummercommon.org.uk
SUMMARY:Orchard Work Session
DESCRIPTION:No previous experience is necessary. Come as you are. If any questions  contact the orchard manager: Orchard_Manager@protonmail.com
URL:https://midsummercommon.org.uk/event/orchard-work-session-31/
ATTACH;FMTTYPE=image/jpeg:https://midsummercommon.org.uk/wp-content/uploads/2022/04/Orchard.jpg
END:VEVENT
BEGIN:VEVENT
DTSTART;TZID=America/Halifax:20220822T130000
DTEND;TZID=America/Halifax:20220822T150000
DTSTAMP:20260420T083002
CREATED:20220817T223911Z
LAST-MODIFIED:20220817T225008Z
UID:4384-1661173200-1661180400@midsummercommon.org.uk
SUMMARY:Traditional Scything - Grass cutting without the mower
DESCRIPTION:On 22nd of August we’ll be mowing the wild area of the orchard\, and we’re going to do it the traditional way: by scything! Come along to find out more about management of grassland for biodiversity\, wildflowers\, and the orchard in general\, as well as to see one of the oldest land management techniques in action. \nFor additional information please contact our Orchard Manager\, at: \nOrchard_Manager@protonmail.com
URL:https://midsummercommon.org.uk/event/traditional-scything-grass-cutting-without-the-mower/
ATTACH;FMTTYPE=image/jpeg:https://midsummercommon.org.uk/wp-content/uploads/2022/08/Screen-Shot-2022-08-17-at-6.44.01-PM.jpg
END:VEVENT
BEGIN:VEVENT
DTSTART;TZID=Europe/London:20220821T100000
DTEND;TZID=Europe/London:20220821T123000
DTSTAMP:20260420T083002
CREATED:20220423T173504Z
LAST-MODIFIED:20220625T165102Z
UID:4121-1661076000-1661085000@midsummercommon.org.uk
SUMMARY:Orchard Work Session
DESCRIPTION:No previous experience is necessary. Come as you are. If any questions  contact the orchard manager: Orchard_Manager@protonmail.com
URL:https://midsummercommon.org.uk/event/orchard-work-session-30/
ATTACH;FMTTYPE=image/jpeg:https://midsummercommon.org.uk/wp-content/uploads/2022/04/Orchard.jpg
END:VEVENT
BEGIN:VEVENT
DTSTART;TZID=Europe/London:20220814T100000
DTEND;TZID=Europe/London:20220814T120000
DTSTAMP:20260420T083002
CREATED:20220423T173259Z
LAST-MODIFIED:20220625T164823Z
UID:4118-1660471200-1660478400@midsummercommon.org.uk
SUMMARY:Orchard Work Session
DESCRIPTION:No previous experience is necessary. Come as you are. If any questions  contact the orchard manager: Orchard_Manager@protonmail.com
URL:https://midsummercommon.org.uk/event/orchard-update-session/
ATTACH;FMTTYPE=image/jpeg:https://midsummercommon.org.uk/wp-content/uploads/2022/04/Orchard.jpg
END:VEVENT
BEGIN:VEVENT
DTSTART;TZID=Europe/London:20220807T100000
DTEND;TZID=Europe/London:20220807T120000
DTSTAMP:20260420T083002
CREATED:20220423T173135Z
LAST-MODIFIED:20220625T164909Z
UID:4116-1659866400-1659873600@midsummercommon.org.uk
SUMMARY:Orchard Work Session
DESCRIPTION:No previous experience is necessary. Come as you are. If any questions  contact the orchard manager: Orchard_Manager@protonmail.com
URL:https://midsummercommon.org.uk/event/orchard-work-session-29/
ATTACH;FMTTYPE=image/jpeg:https://midsummercommon.org.uk/wp-content/uploads/2022/04/Orchard.jpg
END:VEVENT
BEGIN:VEVENT
DTSTART;TZID=Europe/London:20220731T100000
DTEND;TZID=Europe/London:20220731T120000
DTSTAMP:20260420T083002
CREATED:20220423T172435Z
LAST-MODIFIED:20220625T164715Z
UID:4114-1659261600-1659268800@midsummercommon.org.uk
SUMMARY:Orchard Work Session
DESCRIPTION:No previous experience is necessary. Come as you are. If any questions  contact the orchard manager: Orchard_Manager@protonmail.com
URL:https://midsummercommon.org.uk/event/orchard-work-session-28/
ATTACH;FMTTYPE=image/jpeg:https://midsummercommon.org.uk/wp-content/uploads/2022/04/Orchard.jpg
END:VEVENT
BEGIN:VEVENT
DTSTART;TZID=Europe/London:20220724T100000
DTEND;TZID=Europe/London:20220724T120000
DTSTAMP:20260420T083002
CREATED:20220423T172228Z
LAST-MODIFIED:20220625T164538Z
UID:4110-1658656800-1658664000@midsummercommon.org.uk
SUMMARY:Orchard Work Session
DESCRIPTION:No previous experience is necessary. Come as you are. If any questions  contact the orchard manager: Orchard_Manager@protonmail.com
URL:https://midsummercommon.org.uk/event/orchard-work-session-26/
ATTACH;FMTTYPE=image/jpeg:https://midsummercommon.org.uk/wp-content/uploads/2022/04/Orchard.jpg
END:VEVENT
BEGIN:VEVENT
DTSTART;TZID=Europe/London:20220717T100000
DTEND;TZID=Europe/London:20220717T120000
DTSTAMP:20260420T083002
CREATED:20220423T172132Z
LAST-MODIFIED:20220625T164507Z
UID:4108-1658052000-1658059200@midsummercommon.org.uk
SUMMARY:Orchard Work Session
DESCRIPTION:No previous experience is necessary. Come as you are. If any questions  contact the orchard manager: Orchard_Manager@protonmail.com
URL:https://midsummercommon.org.uk/event/orchard-work-session-24/
ATTACH;FMTTYPE=image/jpeg:https://midsummercommon.org.uk/wp-content/uploads/2022/04/Orchard.jpg
END:VEVENT
BEGIN:VEVENT
DTSTART;TZID=Europe/London:20220710T100000
DTEND;TZID=Europe/London:20220710T120000
DTSTAMP:20260420T083002
CREATED:20220423T172029Z
LAST-MODIFIED:20220625T164121Z
UID:4106-1657447200-1657454400@midsummercommon.org.uk
SUMMARY:Orchard Work Session
DESCRIPTION:No previous experience is necessary. Come as you are. If any questions  contact the orchard manager: Orchard_Manager@protonmail.com
URL:https://midsummercommon.org.uk/event/orchard-work-session-22/
ATTACH;FMTTYPE=image/jpeg:https://midsummercommon.org.uk/wp-content/uploads/2022/04/Orchard.jpg
END:VEVENT
BEGIN:VEVENT
DTSTART;TZID=Europe/London:20220703T100000
DTEND;TZID=Europe/London:20220703T120000
DTSTAMP:20260420T083002
CREATED:20220423T171322Z
LAST-MODIFIED:20220625T164222Z
UID:4097-1656842400-1656849600@midsummercommon.org.uk
SUMMARY:Orchard Work Session
DESCRIPTION:No previous experience is necessary. Come as you are. If any questions  contact the orchard manager: Orchard_Manager@protonmail.com
URL:https://midsummercommon.org.uk/event/orchard-work-session-23/
ATTACH;FMTTYPE=image/jpeg:https://midsummercommon.org.uk/wp-content/uploads/2022/04/Orchard.jpg
END:VEVENT
BEGIN:VEVENT
DTSTART;TZID=Europe/London:20220626T100000
DTEND;TZID=Europe/London:20220626T120000
DTSTAMP:20260420T083002
CREATED:20220423T170912Z
LAST-MODIFIED:20220625T164003Z
UID:4094-1656237600-1656244800@midsummercommon.org.uk
SUMMARY:Orchard Work Session
DESCRIPTION:No previous experience is necessary. Come as you are. If any questions  contact the orchard manager: Orchard_Manager@protonmail.com
URL:https://midsummercommon.org.uk/event/work-session-cancelled-due-to-midsummer-fair/
ATTACH;FMTTYPE=image/jpeg:https://midsummercommon.org.uk/wp-content/uploads/2022/04/Orchard.jpg
END:VEVENT
BEGIN:VEVENT
DTSTART;VALUE=DATE:20220622
DTEND;VALUE=DATE:20220628
DTSTAMP:20260420T083002
CREATED:20220125T115421Z
LAST-MODIFIED:20220125T115430Z
UID:3251-1655856000-1656374399@midsummercommon.org.uk
SUMMARY:Midsummer Fair & Market 2022
DESCRIPTION:
URL:https://midsummercommon.org.uk/event/midsummer-fair-market-2022/
END:VEVENT
BEGIN:VEVENT
DTSTART;TZID=Europe/London:20220621T180000
DTEND;TZID=Europe/London:20220621T220000
DTSTAMP:20260420T083002
CREATED:20220615T153802Z
LAST-MODIFIED:20220615T154922Z
UID:4321-1655834400-1655848800@midsummercommon.org.uk
SUMMARY:Invitation to Re-declaration of the Rights of the River Cam
DESCRIPTION:On behalf of Friends of the Cam\nIt would be wonderful if you were able to join us on 21st June for the Re-declaration of the rights of the Cam. For music\, poetry\, singing\, community.  Please pass the invitation around and invite your friends. Bring a picnic.
URL:https://midsummercommon.org.uk/event/invitation-to-re-declaration-of-the-rights-of-the-river-cam/
LOCATION:Near Jesus Green Lock
ATTACH;FMTTYPE=image/jpeg:https://midsummercommon.org.uk/wp-content/uploads/2022/06/Screen-Shot-2022-06-15-at-11.39.30-AM.jpg
END:VEVENT
BEGIN:VEVENT
DTSTART;TZID=America/Halifax:20220619T100000
DTEND;TZID=America/Halifax:20220619T120000
DTSTAMP:20260420T083002
CREATED:20220423T171600Z
LAST-MODIFIED:20220423T171600Z
UID:4101-1655632800-1655640000@midsummercommon.org.uk
SUMMARY:Orchard Work Session
DESCRIPTION:No previous experience is necessary. Come as you are. If any questions  contact the orchard manager: Orchard_Manager@protonmail.com
URL:https://midsummercommon.org.uk/event/orchard-work-session-25/
ATTACH;FMTTYPE=image/jpeg:https://midsummercommon.org.uk/wp-content/uploads/2022/04/Orchard.jpg
END:VEVENT
BEGIN:VEVENT
DTSTART;TZID=America/Halifax:20220612T100000
DTEND;TZID=America/Halifax:20220612T120000
DTSTAMP:20260420T083002
CREATED:20220423T170409Z
LAST-MODIFIED:20220423T170409Z
UID:4090-1655028000-1655035200@midsummercommon.org.uk
SUMMARY:Orchard Work Session
DESCRIPTION:No previous experience is necessary. Come as you are. If any questions  contact the orchard manager: Orchard_Manager@protonmail.com
URL:https://midsummercommon.org.uk/event/orchard-work-session-21/
ATTACH;FMTTYPE=image/jpeg:https://midsummercommon.org.uk/wp-content/uploads/2022/04/Orchard.jpg
END:VEVENT
BEGIN:VEVENT
DTSTART;VALUE=DATE:20220611
DTEND;VALUE=DATE:20220612
DTSTAMP:20260420T083002
CREATED:20220125T115308Z
LAST-MODIFIED:20220125T115337Z
UID:3249-1654905600-1654991999@midsummercommon.org.uk
SUMMARY:Strawberry Fair 2022
DESCRIPTION:
URL:https://midsummercommon.org.uk/event/strawberry-fair-2022/
END:VEVENT
BEGIN:VEVENT
DTSTART;TZID=America/Halifax:20220605T100000
DTEND;TZID=America/Halifax:20220605T120000
DTSTAMP:20260420T083002
CREATED:20220423T170236Z
LAST-MODIFIED:20220423T170236Z
UID:4088-1654423200-1654430400@midsummercommon.org.uk
SUMMARY:Orchard Work Session
DESCRIPTION:No previous experience is necessary. Come as you are. If any questions  contact the orchard manager: Orchard_Manager@protonmail.com
URL:https://midsummercommon.org.uk/event/orchard-work-session-20/
ATTACH;FMTTYPE=image/jpeg:https://midsummercommon.org.uk/wp-content/uploads/2022/04/Orchard.jpg
END:VEVENT
BEGIN:VEVENT
DTSTART;TZID=America/Halifax:20220529T100000
DTEND;TZID=America/Halifax:20220529T120000
DTSTAMP:20260420T083002
CREATED:20220423T170045Z
LAST-MODIFIED:20220423T170102Z
UID:4086-1653818400-1653825600@midsummercommon.org.uk
SUMMARY:Orchard Work Session
DESCRIPTION:No previous experience is necessary. Come as you are. If any questions  contact the orchard manager: Orchard_Manager@protonmail.com
URL:https://midsummercommon.org.uk/event/orchard-work-session-19/
ATTACH;FMTTYPE=image/jpeg:https://midsummercommon.org.uk/wp-content/uploads/2022/04/Orchard.jpg
END:VEVENT
BEGIN:VEVENT
DTSTART;TZID=America/Halifax:20220522T100000
DTEND;TZID=America/Halifax:20220522T120000
DTSTAMP:20260420T083002
CREATED:20220423T165937Z
LAST-MODIFIED:20220423T165937Z
UID:4084-1653213600-1653220800@midsummercommon.org.uk
SUMMARY:Orchard Work Session
DESCRIPTION:No previous experience is necessary. Come as you are. If any questions  contact the orchard manager: Orchard_Manager@protonmail.com
URL:https://midsummercommon.org.uk/event/orchard-work-session-18/
ATTACH;FMTTYPE=image/jpeg:https://midsummercommon.org.uk/wp-content/uploads/2022/04/Orchard.jpg
END:VEVENT
BEGIN:VEVENT
DTSTART;TZID=America/Halifax:20220515T100000
DTEND;TZID=America/Halifax:20220515T120000
DTSTAMP:20260420T083002
CREATED:20220423T165458Z
LAST-MODIFIED:20220423T165750Z
UID:4080-1652608800-1652616000@midsummercommon.org.uk
SUMMARY:Orchard Work Session
DESCRIPTION:No previous experience is necessary. Come as you are. If any questions  contact the orchard manager: Orchard_Manager@protonmail.com
URL:https://midsummercommon.org.uk/event/orchard-work-session-16/
ATTACH;FMTTYPE=image/jpeg:https://midsummercommon.org.uk/wp-content/uploads/2022/04/Orchard.jpg
END:VEVENT
BEGIN:VEVENT
DTSTART;TZID=America/Halifax:20220508T100000
DTEND;TZID=America/Halifax:20220508T120000
DTSTAMP:20260420T083002
CREATED:20220423T165600Z
LAST-MODIFIED:20220423T175339Z
UID:4082-1652004000-1652011200@midsummercommon.org.uk
SUMMARY:Orchard Work Session
DESCRIPTION:No previous experience is necessary. Come as you are. If any questions  contact the orchard manager: Orchard_Manager@protonmail.com
URL:https://midsummercommon.org.uk/event/orchard-work-session-17/
ATTACH;FMTTYPE=image/jpeg:https://midsummercommon.org.uk/wp-content/uploads/2022/04/Orchard.jpg
END:VEVENT
END:VCALENDAR